BEGIN:VCALENDAR
VERSION:2.0
PRODID:-//Forssan Seudun Kehitysvammaisten Tuki ry - ECPv6.15.18//NONSGML v1.0//EN
CALSCALE:GREGORIAN
METHOD:PUBLISH
X-ORIGINAL-URL:https://www.forssanseudunkvtuki.fi
X-WR-CALDESC:Tapahtumat Forssan Seudun Kehitysvammaisten Tuki ry
REFRESH-INTERVAL;VALUE=DURATION:PT1H
X-Robots-Tag:noindex
X-PUBLISHED-TTL:PT1H
BEGIN:VTIMEZONE
TZID:Europe/Helsinki
BEGIN:DAYLIGHT
TZOFFSETFROM:+0200
TZOFFSETTO:+0300
TZNAME:EEST
DTSTART:20240331T010000
END:DAYLIGHT
BEGIN:STANDARD
TZOFFSETFROM:+0300
TZOFFSETTO:+0200
TZNAME:EET
DTSTART:20241027T010000
END:STANDARD
BEGIN:DAYLIGHT
TZOFFSETFROM:+0200
TZOFFSETTO:+0300
TZNAME:EEST
DTSTART:20250330T010000
END:DAYLIGHT
BEGIN:STANDARD
TZOFFSETFROM:+0300
TZOFFSETTO:+0200
TZNAME:EET
DTSTART:20251026T010000
END:STANDARD
BEGIN:DAYLIGHT
TZOFFSETFROM:+0200
TZOFFSETTO:+0300
TZNAME:EEST
DTSTART:20260329T010000
END:DAYLIGHT
BEGIN:STANDARD
TZOFFSETFROM:+0300
TZOFFSETTO:+0200
TZNAME:EET
DTSTART:20261025T010000
END:STANDARD
BEGIN:DAYLIGHT
TZOFFSETFROM:+0200
TZOFFSETTO:+0300
TZNAME:EEST
DTSTART:20270328T010000
END:DAYLIGHT
BEGIN:STANDARD
TZOFFSETFROM:+0300
TZOFFSETTO:+0200
TZNAME:EET
DTSTART:20271031T010000
END:STANDARD
END:VTIMEZONE
BEGIN:VEVENT
DTSTART;TZID=Europe/Helsinki:20251213T100000
DTEND;TZID=Europe/Helsinki:20251213T150000
DTSTAMP:20260421T053105
CREATED:20251106T194104Z
LAST-MODIFIED:20251106T201908Z
UID:1879-1765620000-1765638000@www.forssanseudunkvtuki.fi
SUMMARY:JOULUMARKKINAT
DESCRIPTION:Olemme mukana Forssan Salaman Joulumarkkinoilla.
URL:https://www.forssanseudunkvtuki.fi/tapahtuma/joulumarkkinat/
LOCATION:Virtasen halli Aleksinkatu 1 Forssa\, Virtasen halli Aleksinkatu 1\, FORSSA\, 30100\, Finland
END:VEVENT
BEGIN:VEVENT
DTSTART;TZID=Europe/Helsinki:20251214T100000
DTEND;TZID=Europe/Helsinki:20251214T150000
DTSTAMP:20260421T053105
CREATED:20251106T195233Z
LAST-MODIFIED:20251106T195233Z
UID:1883-1765706400-1765724400@www.forssanseudunkvtuki.fi
SUMMARY:JOULUMARKKINAT
DESCRIPTION:Olemme mukana Forssan Salaman Joulumarkkinoilla.
URL:https://www.forssanseudunkvtuki.fi/tapahtuma/joulumarkkinat-2/
LOCATION:Virtasen halli Aleksinkatu 1 Forssa\, Virtasen halli Aleksinkatu 1\, FORSSA\, 30100\, Finland
END:VEVENT
BEGIN:VEVENT
DTSTART;TZID=Europe/Helsinki:20251216T173000
DTEND;TZID=Europe/Helsinki:20251216T193000
DTSTAMP:20260421T053105
CREATED:20251106T201346Z
LAST-MODIFIED:20251106T201346Z
UID:1910-1765906200-1765913400@www.forssanseudunkvtuki.fi
SUMMARY:Joulukaraoke
DESCRIPTION:Tarjolla musiikin lisäksi riisipuuroa!
URL:https://www.forssanseudunkvtuki.fi/tapahtuma/joulukaraoke/
LOCATION:Olonurkka\, Pekolankatu 3\, FORSSA\, 30100\, Finland
END:VEVENT
BEGIN:VEVENT
DTSTART;TZID=Europe/Helsinki:20251230T173000
DTEND;TZID=Europe/Helsinki:20251230T193000
DTSTAMP:20260421T053105
CREATED:20251106T201526Z
LAST-MODIFIED:20251106T201526Z
UID:1912-1767115800-1767123000@www.forssanseudunkvtuki.fi
SUMMARY:Karaokeilta
DESCRIPTION:Tämän vuoden viimeinen karaokeilta!
URL:https://www.forssanseudunkvtuki.fi/tapahtuma/karaokeilta-20/
LOCATION:Olonurkka\, Pekolankatu 3\, FORSSA\, 30100\, Finland
END:VEVENT
BEGIN:VEVENT
DTSTART;TZID=Europe/Helsinki:20260110T093000
DTEND;TZID=Europe/Helsinki:20260110T101500
DTSTAMP:20260421T053105
CREATED:20260104T183346Z
LAST-MODIFIED:20260104T183346Z
UID:2000-1768037400-1768040100@www.forssanseudunkvtuki.fi
SUMMARY:PELIJUMPPA
DESCRIPTION:Kauden eka jumppa. Tule mukaan!
URL:https://www.forssanseudunkvtuki.fi/tapahtuma/pelijumppa/
LOCATION:Heikan koulu\, Forssa
END:VEVENT
BEGIN:VEVENT
DTSTART;TZID=Europe/Helsinki:20260110T103000
DTEND;TZID=Europe/Helsinki:20260110T111500
DTSTAMP:20260421T053105
CREATED:20260104T183818Z
LAST-MODIFIED:20260104T183818Z
UID:2002-1768041000-1768043700@www.forssanseudunkvtuki.fi
SUMMARY:MUSIIKKIJUMPPA
DESCRIPTION:Kauden eka kerta. Lähde jumppaamaan musiikin tahdissa!
URL:https://www.forssanseudunkvtuki.fi/tapahtuma/musiikkijumppa/
LOCATION:Heikan koulu\, Forssa
END:VEVENT
BEGIN:VEVENT
DTSTART;TZID=Europe/Helsinki:20260113T173000
DTEND;TZID=Europe/Helsinki:20260113T193000
DTSTAMP:20260421T053105
CREATED:20260104T172109Z
LAST-MODIFIED:20260104T172109Z
UID:1948-1768325400-1768332600@www.forssanseudunkvtuki.fi
SUMMARY:KARAOKE
DESCRIPTION:Kevätkauden eka karaokeilta.
URL:https://www.forssanseudunkvtuki.fi/tapahtuma/karaoke-16/
LOCATION:Olonurkka\, Pekolankatu 3\, FORSSA\, 30100\, Finland
END:VEVENT
BEGIN:VEVENT
DTSTART;TZID=Europe/Helsinki:20260117T093000
DTEND;TZID=Europe/Helsinki:20260117T101500
DTSTAMP:20260421T053105
CREATED:20260104T184254Z
LAST-MODIFIED:20260104T184254Z
UID:2004-1768642200-1768644900@www.forssanseudunkvtuki.fi
SUMMARY:PELIJUMPPA
DESCRIPTION:Peli tuo hien pintaan…
URL:https://www.forssanseudunkvtuki.fi/tapahtuma/pelijumppa-2/
LOCATION:Heikan koulu\, Forssa
END:VEVENT
BEGIN:VEVENT
DTSTART;TZID=Europe/Helsinki:20260117T103000
DTEND;TZID=Europe/Helsinki:20260117T111500
DTSTAMP:20260421T053105
CREATED:20260104T184423Z
LAST-MODIFIED:20260104T184423Z
UID:2006-1768645800-1768648500@www.forssanseudunkvtuki.fi
SUMMARY:MUSIIKKIJUMPPA
DESCRIPTION:Joko sait kivan tanssifiiliksen?
URL:https://www.forssanseudunkvtuki.fi/tapahtuma/musiikkijumppa-2/
LOCATION:Heikan koulu\, Forssa
END:VEVENT
BEGIN:VEVENT
DTSTART;TZID=Europe/Helsinki:20260120T173000
DTEND;TZID=Europe/Helsinki:20260120T193000
DTSTAMP:20260421T053105
CREATED:20260104T172246Z
LAST-MODIFIED:20260104T172246Z
UID:1950-1768930200-1768937400@www.forssanseudunkvtuki.fi
SUMMARY:KARAOKE
DESCRIPTION:Ja nyt jatketaan…
URL:https://www.forssanseudunkvtuki.fi/tapahtuma/karaoke-17/
LOCATION:Olonurkka\, Pekolankatu 3\, FORSSA\, 30100\, Finland
END:VEVENT
BEGIN:VEVENT
DTSTART;TZID=Europe/Helsinki:20260124T093000
DTEND;TZID=Europe/Helsinki:20260124T101500
DTSTAMP:20260421T053105
CREATED:20260104T184609Z
LAST-MODIFIED:20260104T184609Z
UID:2008-1769247000-1769249700@www.forssanseudunkvtuki.fi
SUMMARY:PELIJUMPPA
DESCRIPTION:Jumppa tekee hyvää…
URL:https://www.forssanseudunkvtuki.fi/tapahtuma/pelijumppa-3/
LOCATION:Heikan koulu\, Forssa
END:VEVENT
BEGIN:VEVENT
DTSTART;TZID=Europe/Helsinki:20260124T103000
DTEND;TZID=Europe/Helsinki:20260124T111500
DTSTAMP:20260421T053105
CREATED:20260104T190655Z
LAST-MODIFIED:20260104T190655Z
UID:2010-1769250600-1769253300@www.forssanseudunkvtuki.fi
SUMMARY:MUSIIKKIJUMPPA
DESCRIPTION:Minkä musiikin tahtiin tänään jumpataan?
URL:https://www.forssanseudunkvtuki.fi/tapahtuma/musiikkijumppa-3/
LOCATION:Heikan koulu\, Forssa
END:VEVENT
BEGIN:VEVENT
DTSTART;TZID=Europe/Helsinki:20260125T150000
DTEND;TZID=Europe/Helsinki:20260125T170000
DTSTAMP:20260421T053105
CREATED:20260104T170214Z
LAST-MODIFIED:20260104T170214Z
UID:1927-1769353200-1769360400@www.forssanseudunkvtuki.fi
SUMMARY:PELIKERHO
DESCRIPTION:Taas se alkaa! Tule mukaan pelaamaan lauta- ym. pelejä kivassa seurassa.
URL:https://www.forssanseudunkvtuki.fi/tapahtuma/pelikerho-8/
LOCATION:Olonurkka\, Pekolankatu 3\, FORSSA\, 30100\, Finland
END:VEVENT
BEGIN:VEVENT
DTSTART;TZID=Europe/Helsinki:20260125T170000
DTEND;TZID=Europe/Helsinki:20260125T190000
DTSTAMP:20260421T053105
CREATED:20260104T171143Z
LAST-MODIFIED:20260104T171143Z
UID:1938-1769360400-1769367600@www.forssanseudunkvtuki.fi
SUMMARY:KUUKAUSITAPAAMINEN
DESCRIPTION:Kevätkauden eka tapaaminen. Tule kuulolle\, mitä tulossa.
URL:https://www.forssanseudunkvtuki.fi/tapahtuma/kuukausitapaaminen-6/
LOCATION:Olonurkka\, Pekolankatu 3\, FORSSA\, 30100\, Finland
END:VEVENT
BEGIN:VEVENT
DTSTART;TZID=Europe/Helsinki:20260127T173000
DTEND;TZID=Europe/Helsinki:20260127T193000
DTSTAMP:20260421T053105
CREATED:20260104T172512Z
LAST-MODIFIED:20260104T172512Z
UID:1952-1769535000-1769542200@www.forssanseudunkvtuki.fi
SUMMARY:KARAOKE
DESCRIPTION:Onks Viljoo näkyny karaokessa? Tänään Viljon nimipäivä…
URL:https://www.forssanseudunkvtuki.fi/tapahtuma/karaoke-18/
LOCATION:Olonurkka\, Pekolankatu 3\, FORSSA\, 30100\, Finland
END:VEVENT
BEGIN:VEVENT
DTSTART;TZID=Europe/Helsinki:20260131T093000
DTEND;TZID=Europe/Helsinki:20260131T101500
DTSTAMP:20260421T053105
CREATED:20260104T190822Z
LAST-MODIFIED:20260104T190822Z
UID:2012-1769851800-1769854500@www.forssanseudunkvtuki.fi
SUMMARY:PELIJUMPPA
DESCRIPTION:Tammikuun viimeistä jumppaa viedään…
URL:https://www.forssanseudunkvtuki.fi/tapahtuma/pelijumppa-4/
LOCATION:Heikan koulu\, Forssa
END:VEVENT
BEGIN:VEVENT
DTSTART;TZID=Europe/Helsinki:20260131T103000
DTEND;TZID=Europe/Helsinki:20260131T111500
DTSTAMP:20260421T053105
CREATED:20260104T190939Z
LAST-MODIFIED:20260104T190939Z
UID:2014-1769855400-1769858100@www.forssanseudunkvtuki.fi
SUMMARY:MUSIIKKIJUMPPA
DESCRIPTION:Musiikin tahtiin on kiva jumpata.
URL:https://www.forssanseudunkvtuki.fi/tapahtuma/musiikkijumppa-4/
LOCATION:Heikan koulu\, Forssa
END:VEVENT
BEGIN:VEVENT
DTSTART;TZID=Europe/Helsinki:20260203T173000
DTEND;TZID=Europe/Helsinki:20260203T193000
DTSTAMP:20260421T053105
CREATED:20260104T172701Z
LAST-MODIFIED:20260104T172701Z
UID:1954-1770139800-1770147000@www.forssanseudunkvtuki.fi
SUMMARY:KARAOKE
DESCRIPTION:Tuoko karaoke valoa Sinun elämääsi?
URL:https://www.forssanseudunkvtuki.fi/tapahtuma/karaoke-19/
LOCATION:Olonurkka\, Pekolankatu 3\, FORSSA\, 30100\, Finland
END:VEVENT
BEGIN:VEVENT
DTSTART;TZID=Europe/Helsinki:20260207T093000
DTEND;TZID=Europe/Helsinki:20260207T101500
DTSTAMP:20260421T053105
CREATED:20260104T191119Z
LAST-MODIFIED:20260104T191119Z
UID:2016-1770456600-1770459300@www.forssanseudunkvtuki.fi
SUMMARY:PELIJUMPPA
DESCRIPTION:Pallopelejä on monenlaisia.
URL:https://www.forssanseudunkvtuki.fi/tapahtuma/pelijumppa-5/
LOCATION:Heikan koulu\, Forssa
END:VEVENT
BEGIN:VEVENT
DTSTART;TZID=Europe/Helsinki:20260207T103000
DTEND;TZID=Europe/Helsinki:20260207T111500
DTSTAMP:20260421T053105
CREATED:20260104T191238Z
LAST-MODIFIED:20260104T191238Z
UID:2018-1770460200-1770462900@www.forssanseudunkvtuki.fi
SUMMARY:MUSIIKKIJUMPPA
DESCRIPTION:Jumppaa vaikka istuen…
URL:https://www.forssanseudunkvtuki.fi/tapahtuma/musiikkijumppa-5/
LOCATION:Heikan koulu\, Forssa
END:VEVENT
BEGIN:VEVENT
DTSTART;TZID=Europe/Helsinki:20260210T173000
DTEND;TZID=Europe/Helsinki:20260210T193000
DTSTAMP:20260421T053105
CREATED:20260104T172833Z
LAST-MODIFIED:20260104T172833Z
UID:1956-1770744600-1770751800@www.forssanseudunkvtuki.fi
SUMMARY:KARAOKE
DESCRIPTION:Onneksi on tiistai ja karaokeilta!
URL:https://www.forssanseudunkvtuki.fi/tapahtuma/karaoke-20/
LOCATION:Olonurkka\, Pekolankatu 3\, FORSSA\, 30100\, Finland
END:VEVENT
BEGIN:VEVENT
DTSTART;TZID=Europe/Helsinki:20260214T093000
DTEND;TZID=Europe/Helsinki:20260214T101500
DTSTAMP:20260421T053105
CREATED:20260104T191346Z
LAST-MODIFIED:20260104T191346Z
UID:2020-1771061400-1771064100@www.forssanseudunkvtuki.fi
SUMMARY:PELIJUMPPA
DESCRIPTION:Tänään ystävänpäivänä voi jumpata ystävän kanssa.
URL:https://www.forssanseudunkvtuki.fi/tapahtuma/pelijumppa-6/
LOCATION:Heikan koulu\, Forssa
END:VEVENT
BEGIN:VEVENT
DTSTART;TZID=Europe/Helsinki:20260214T103000
DTEND;TZID=Europe/Helsinki:20260214T111500
DTSTAMP:20260421T053105
CREATED:20260104T191511Z
LAST-MODIFIED:20260104T191511Z
UID:2022-1771065000-1771067700@www.forssanseudunkvtuki.fi
SUMMARY:MUSIIKKIJUMPPA
DESCRIPTION:Tanssitaan yhdessä ystävän kanssa.
URL:https://www.forssanseudunkvtuki.fi/tapahtuma/musiikkijumppa-6/
LOCATION:Heikan koulu\, Forssa
END:VEVENT
BEGIN:VEVENT
DTSTART;TZID=Europe/Helsinki:20260215T150000
DTEND;TZID=Europe/Helsinki:20260215T170000
DTSTAMP:20260421T053105
CREATED:20260129T134033Z
LAST-MODIFIED:20260129T134033Z
UID:2094-1771167600-1771174800@www.forssanseudunkvtuki.fi
SUMMARY:KARAOKETANSSIT
DESCRIPTION:Perinteiset\, Lions Club Kuhan järjestämät karaoketanssit Hotelli Fabrikissa\, Forssan Torikeskuksessa. Sisäänpääsymaksu 2e. Ilm. Tainalle\, p.050-3369 115 viim. to 5.2.
URL:https://www.forssanseudunkvtuki.fi/tapahtuma/karaoketanssit/
LOCATION:Hotelli Fabrik\, Forssa\, Hämeentie 7\, FORSSA\, 30100\, Finland
END:VEVENT
BEGIN:VEVENT
DTSTART;TZID=Europe/Helsinki:20260217T173000
DTEND;TZID=Europe/Helsinki:20260217T193000
DTSTAMP:20260421T053105
CREATED:20260104T172936Z
LAST-MODIFIED:20260104T172936Z
UID:1958-1771349400-1771356600@www.forssanseudunkvtuki.fi
SUMMARY:KARAOKE
DESCRIPTION:Liukuvaa laskiaista!
URL:https://www.forssanseudunkvtuki.fi/tapahtuma/karaoke-21/
LOCATION:Olonurkka\, Pekolankatu 3\, FORSSA\, 30100\, Finland
END:VEVENT
BEGIN:VEVENT
DTSTART;TZID=Europe/Helsinki:20260221T093000
DTEND;TZID=Europe/Helsinki:20260221T101500
DTSTAMP:20260421T053105
CREATED:20260104T191634Z
LAST-MODIFIED:20260104T191634Z
UID:2024-1771666200-1771668900@www.forssanseudunkvtuki.fi
SUMMARY:PELIJUMPPA
DESCRIPTION:Talven piristys: kunnon peli!
URL:https://www.forssanseudunkvtuki.fi/tapahtuma/pelijumppa-7/
LOCATION:Heikan koulu\, Forssa
END:VEVENT
BEGIN:VEVENT
DTSTART;TZID=Europe/Helsinki:20260221T103000
DTEND;TZID=Europe/Helsinki:20260221T111500
DTSTAMP:20260421T053105
CREATED:20260104T191754Z
LAST-MODIFIED:20260104T191754Z
UID:2026-1771669800-1771672500@www.forssanseudunkvtuki.fi
SUMMARY:MUSIIKKIJUMPPA
DESCRIPTION:Tanssi saa mielen keveäksi.
URL:https://www.forssanseudunkvtuki.fi/tapahtuma/musiikkijumppa-7/
LOCATION:Heikan koulu\, Forssa
END:VEVENT
BEGIN:VEVENT
DTSTART;TZID=Europe/Helsinki:20260222T150000
DTEND;TZID=Europe/Helsinki:20260222T170000
DTSTAMP:20260421T053105
CREATED:20260104T170455Z
LAST-MODIFIED:20260104T170455Z
UID:1930-1771772400-1771779600@www.forssanseudunkvtuki.fi
SUMMARY:PELIKERHO
DESCRIPTION:Mukavaa tekemistä su-iltapäivään!
URL:https://www.forssanseudunkvtuki.fi/tapahtuma/pelikerho-9/
LOCATION:Olonurkka\, Pekolankatu 3\, FORSSA\, 30100\, Finland
END:VEVENT
BEGIN:VEVENT
DTSTART;TZID=Europe/Helsinki:20260222T170000
DTEND;TZID=Europe/Helsinki:20260222T190000
DTSTAMP:20260421T053105
CREATED:20260104T171435Z
LAST-MODIFIED:20260104T171435Z
UID:1940-1771779600-1771786800@www.forssanseudunkvtuki.fi
SUMMARY:KUUKAUSITAPAAMINEN
DESCRIPTION:Lähde Tuulin päivän tapaamiseen Olonurkkaan.
URL:https://www.forssanseudunkvtuki.fi/tapahtuma/kuukausitapaaminen-7/
LOCATION:Olonurkka\, Pekolankatu 3\, FORSSA\, 30100\, Finland
END:VEVENT
BEGIN:VEVENT
DTSTART;TZID=Europe/Helsinki:20260224T173000
DTEND;TZID=Europe/Helsinki:20260224T193000
DTSTAMP:20260421T053105
CREATED:20260104T173042Z
LAST-MODIFIED:20260104T173042Z
UID:1960-1771954200-1771961400@www.forssanseudunkvtuki.fi
SUMMARY:KARAOKE
DESCRIPTION:Ja tänään juhlitaan Matteja!
URL:https://www.forssanseudunkvtuki.fi/tapahtuma/karaoke-22/
LOCATION:Olonurkka\, Pekolankatu 3\, FORSSA\, 30100\, Finland
END:VEVENT
END:VCALENDAR