BEGIN:VCALENDAR
VERSION:2.0
PRODID:-//Forssan Seudun Kehitysvammaisten Tuki ry - ECPv6.15.18//NONSGML v1.0//EN
CALSCALE:GREGORIAN
METHOD:PUBLISH
X-ORIGINAL-URL:https://www.forssanseudunkvtuki.fi
X-WR-CALDESC:Tapahtumat Forssan Seudun Kehitysvammaisten Tuki ry
REFRESH-INTERVAL;VALUE=DURATION:PT1H
X-Robots-Tag:noindex
X-PUBLISHED-TTL:PT1H
BEGIN:VTIMEZONE
TZID:Europe/Helsinki
BEGIN:DAYLIGHT
TZOFFSETFROM:+0200
TZOFFSETTO:+0300
TZNAME:EEST
DTSTART:20240331T010000
END:DAYLIGHT
BEGIN:STANDARD
TZOFFSETFROM:+0300
TZOFFSETTO:+0200
TZNAME:EET
DTSTART:20241027T010000
END:STANDARD
BEGIN:DAYLIGHT
TZOFFSETFROM:+0200
TZOFFSETTO:+0300
TZNAME:EEST
DTSTART:20250330T010000
END:DAYLIGHT
BEGIN:STANDARD
TZOFFSETFROM:+0300
TZOFFSETTO:+0200
TZNAME:EET
DTSTART:20251026T010000
END:STANDARD
BEGIN:DAYLIGHT
TZOFFSETFROM:+0200
TZOFFSETTO:+0300
TZNAME:EEST
DTSTART:20260329T010000
END:DAYLIGHT
BEGIN:STANDARD
TZOFFSETFROM:+0300
TZOFFSETTO:+0200
TZNAME:EET
DTSTART:20261025T010000
END:STANDARD
END:VTIMEZONE
BEGIN:VEVENT
DTSTART;TZID=Europe/Helsinki:20251130T150000
DTEND;TZID=Europe/Helsinki:20251130T170000
DTSTAMP:20260420T115958
CREATED:20250827T190107Z
LAST-MODIFIED:20250827T190107Z
UID:1765-1764514800-1764522000@www.forssanseudunkvtuki.fi
SUMMARY:Pelikerho
DESCRIPTION:Ja jälleen aika pelikerhon…
URL:https://www.forssanseudunkvtuki.fi/tapahtuma/pelikerho-7/
LOCATION:Olonurkka\, Pekolankatu 3\, FORSSA\, 30100\, Finland
END:VEVENT
BEGIN:VEVENT
DTSTART;TZID=Europe/Helsinki:20251130T170000
DTEND;TZID=Europe/Helsinki:20251130T190000
DTSTAMP:20260420T115958
CREATED:20250827T190843Z
LAST-MODIFIED:20250827T190843Z
UID:1773-1764522000-1764529200@www.forssanseudunkvtuki.fi
SUMMARY:Syyskokous
DESCRIPTION:Tänään päätetään jälleen tärkeistä yhdistysasioista. Tule paikalle vaikuttamaan ja ideoimaan!
URL:https://www.forssanseudunkvtuki.fi/tapahtuma/syyskokous/
LOCATION:Olonurkka\, Pekolankatu 3\, FORSSA\, 30100\, Finland
END:VEVENT
END:VCALENDAR