BEGIN:VCALENDAR
VERSION:2.0
PRODID:-//Forssan Seudun Kehitysvammaisten Tuki ry - ECPv6.15.18//NONSGML v1.0//EN
CALSCALE:GREGORIAN
METHOD:PUBLISH
X-WR-CALNAME:Forssan Seudun Kehitysvammaisten Tuki ry
X-ORIGINAL-URL:https://www.forssanseudunkvtuki.fi
X-WR-CALDESC:Tapahtumat Forssan Seudun Kehitysvammaisten Tuki ry
REFRESH-INTERVAL;VALUE=DURATION:PT1H
X-Robots-Tag:noindex
X-PUBLISHED-TTL:PT1H
BEGIN:VTIMEZONE
TZID:Europe/Helsinki
BEGIN:DAYLIGHT
TZOFFSETFROM:+0200
TZOFFSETTO:+0300
TZNAME:EEST
DTSTART:20240331T010000
END:DAYLIGHT
BEGIN:STANDARD
TZOFFSETFROM:+0300
TZOFFSETTO:+0200
TZNAME:EET
DTSTART:20241027T010000
END:STANDARD
BEGIN:DAYLIGHT
TZOFFSETFROM:+0200
TZOFFSETTO:+0300
TZNAME:EEST
DTSTART:20250330T010000
END:DAYLIGHT
BEGIN:STANDARD
TZOFFSETFROM:+0300
TZOFFSETTO:+0200
TZNAME:EET
DTSTART:20251026T010000
END:STANDARD
BEGIN:DAYLIGHT
TZOFFSETFROM:+0200
TZOFFSETTO:+0300
TZNAME:EEST
DTSTART:20260329T010000
END:DAYLIGHT
BEGIN:STANDARD
TZOFFSETFROM:+0300
TZOFFSETTO:+0200
TZNAME:EET
DTSTART:20261025T010000
END:STANDARD
END:VTIMEZONE
BEGIN:VEVENT
DTSTART;TZID=Europe/Helsinki:20250419T150000
DTEND;TZID=Europe/Helsinki:20250419T180000
DTSTAMP:20260420T173437
CREATED:20250402T142956Z
LAST-MODIFIED:20250402T143054Z
UID:1514-1745074800-1745085600@www.forssanseudunkvtuki.fi
SUMMARY:Laavuretki Ruostejärvelle
DESCRIPTION:Tule mukaan retkelle keväiseen luontoon pääsiäislauantaina 19.4.2025 klo 15- Ruostejärven kesäsiirtolan rantaan. Tuo omat eväät (makkaraa tms.) ja juomat mukanasi! Autolla pääsee perille asti. Tervetuloa!
URL:https://www.forssanseudunkvtuki.fi/tapahtuma/laavuretki-ruostejarvelle-19-4/
LOCATION:Ruostejärven kesäsiirtola\, Kesäsiirtolantie 71\, 31380 Tammela
END:VEVENT
END:VCALENDAR