BEGIN:VCALENDAR
VERSION:2.0
PRODID:-//Forssan Seudun Kehitysvammaisten Tuki ry - ECPv6.15.18//NONSGML v1.0//EN
CALSCALE:GREGORIAN
METHOD:PUBLISH
X-WR-CALNAME:Forssan Seudun Kehitysvammaisten Tuki ry
X-ORIGINAL-URL:https://www.forssanseudunkvtuki.fi
X-WR-CALDESC:Tapahtumat Forssan Seudun Kehitysvammaisten Tuki ry
REFRESH-INTERVAL;VALUE=DURATION:PT1H
X-Robots-Tag:noindex
X-PUBLISHED-TTL:PT1H
BEGIN:VTIMEZONE
TZID:Europe/Helsinki
BEGIN:DAYLIGHT
TZOFFSETFROM:+0200
TZOFFSETTO:+0300
TZNAME:EEST
DTSTART:20250330T010000
END:DAYLIGHT
BEGIN:STANDARD
TZOFFSETFROM:+0300
TZOFFSETTO:+0200
TZNAME:EET
DTSTART:20251026T010000
END:STANDARD
BEGIN:DAYLIGHT
TZOFFSETFROM:+0200
TZOFFSETTO:+0300
TZNAME:EEST
DTSTART:20260329T010000
END:DAYLIGHT
BEGIN:STANDARD
TZOFFSETFROM:+0300
TZOFFSETTO:+0200
TZNAME:EET
DTSTART:20261025T010000
END:STANDARD
BEGIN:DAYLIGHT
TZOFFSETFROM:+0200
TZOFFSETTO:+0300
TZNAME:EEST
DTSTART:20270328T010000
END:DAYLIGHT
BEGIN:STANDARD
TZOFFSETFROM:+0300
TZOFFSETTO:+0200
TZNAME:EET
DTSTART:20271031T010000
END:STANDARD
END:VTIMEZONE
BEGIN:VEVENT
DTSTART;TZID=Europe/Helsinki:20260829T120000
DTEND;TZID=Europe/Helsinki:20260829T140000
DTSTAMP:20260425T203019
CREATED:20260425T121210Z
LAST-MODIFIED:20260425T121445Z
UID:2232-1788004800-1788012000@www.forssanseudunkvtuki.fi
SUMMARY:URHEILUKILPAILUT LAMMINRANNAN URHEILUKENTÄLLÄ
DESCRIPTION:Kesän perinteiset urheilukilpailut pidetään Forssan Lamminrannan urheilukentällä la 29.8.2026. Lajeina 60 m\, pallo\, kuula\, sama-aika ja yllätyslaji! Ei ilmoittautumista. Mahd. tied. Asko Vuorinen\, p. 040-8257 250.
URL:https://www.forssanseudunkvtuki.fi/tapahtuma/urheilukilpailut-2/
LOCATION:Urheilukentänkatu 11\, 30100 Forssa
END:VEVENT
END:VCALENDAR