BEGIN:VCALENDAR
VERSION:2.0
PRODID:-//Forssan Seudun Kehitysvammaisten Tuki ry - ECPv6.15.18//NONSGML v1.0//EN
CALSCALE:GREGORIAN
METHOD:PUBLISH
X-WR-CALNAME:Forssan Seudun Kehitysvammaisten Tuki ry
X-ORIGINAL-URL:https://www.forssanseudunkvtuki.fi
X-WR-CALDESC:Tapahtumat Forssan Seudun Kehitysvammaisten Tuki ry
REFRESH-INTERVAL;VALUE=DURATION:PT1H
X-Robots-Tag:noindex
X-PUBLISHED-TTL:PT1H
BEGIN:VTIMEZONE
TZID:Europe/Helsinki
BEGIN:DAYLIGHT
TZOFFSETFROM:+0200
TZOFFSETTO:+0300
TZNAME:EEST
DTSTART:20250330T010000
END:DAYLIGHT
BEGIN:STANDARD
TZOFFSETFROM:+0300
TZOFFSETTO:+0200
TZNAME:EET
DTSTART:20251026T010000
END:STANDARD
BEGIN:DAYLIGHT
TZOFFSETFROM:+0200
TZOFFSETTO:+0300
TZNAME:EEST
DTSTART:20260329T010000
END:DAYLIGHT
BEGIN:STANDARD
TZOFFSETFROM:+0300
TZOFFSETTO:+0200
TZNAME:EET
DTSTART:20261025T010000
END:STANDARD
BEGIN:DAYLIGHT
TZOFFSETFROM:+0200
TZOFFSETTO:+0300
TZNAME:EEST
DTSTART:20270328T010000
END:DAYLIGHT
BEGIN:STANDARD
TZOFFSETFROM:+0300
TZOFFSETTO:+0200
TZNAME:EET
DTSTART:20271031T010000
END:STANDARD
END:VTIMEZONE
BEGIN:VEVENT
DTSTART;TZID=Europe/Helsinki:20260407T173000
DTEND;TZID=Europe/Helsinki:20260407T193000
DTSTAMP:20260420T134621
CREATED:20260104T175523Z
LAST-MODIFIED:20260104T201014Z
UID:1972-1775583000-1775590200@www.forssanseudunkvtuki.fi
SUMMARY:KARAOKE
DESCRIPTION:Karaoke on siis hyvin kansainvälinen juttu.
URL:https://www.forssanseudunkvtuki.fi/tapahtuma/karaoke-28/
LOCATION:Olonurkka\, Pekolankatu 3\, FORSSA\, 30100\, Finland
END:VEVENT
END:VCALENDAR